BEGIN:VCALENDAR
VERSION:2.0
PRODID:-//Scott R. McKinley - ECPv6.15.14//NONSGML v1.0//EN
CALSCALE:GREGORIAN
METHOD:PUBLISH
X-ORIGINAL-URL:https://mckinleyco.com
X-WR-CALDESC:Events for Scott R. McKinley
REFRESH-INTERVAL;VALUE=DURATION:PT1H
X-Robots-Tag:noindex
X-PUBLISHED-TTL:PT1H
BEGIN:VTIMEZONE
TZID:America/New_York
BEGIN:DAYLIGHT
TZOFFSETFROM:-0500
TZOFFSETTO:-0400
TZNAME:EDT
DTSTART:20170312T070000
END:DAYLIGHT
BEGIN:STANDARD
TZOFFSETFROM:-0400
TZOFFSETTO:-0500
TZNAME:EST
DTSTART:20171105T060000
END:STANDARD
BEGIN:DAYLIGHT
TZOFFSETFROM:-0500
TZOFFSETTO:-0400
TZNAME:EDT
DTSTART:20180311T070000
END:DAYLIGHT
BEGIN:STANDARD
TZOFFSETFROM:-0400
TZOFFSETTO:-0500
TZNAME:EST
DTSTART:20181104T060000
END:STANDARD
BEGIN:DAYLIGHT
TZOFFSETFROM:-0500
TZOFFSETTO:-0400
TZNAME:EDT
DTSTART:20190310T070000
END:DAYLIGHT
BEGIN:STANDARD
TZOFFSETFROM:-0400
TZOFFSETTO:-0500
TZNAME:EST
DTSTART:20191103T060000
END:STANDARD
BEGIN:DAYLIGHT
TZOFFSETFROM:-0500
TZOFFSETTO:-0400
TZNAME:EDT
DTSTART:20200308T070000
END:DAYLIGHT
BEGIN:STANDARD
TZOFFSETFROM:-0400
TZOFFSETTO:-0500
TZNAME:EST
DTSTART:20201101T060000
END:STANDARD
BEGIN:DAYLIGHT
TZOFFSETFROM:-0500
TZOFFSETTO:-0400
TZNAME:EDT
DTSTART:20210314T070000
END:DAYLIGHT
BEGIN:STANDARD
TZOFFSETFROM:-0400
TZOFFSETTO:-0500
TZNAME:EST
DTSTART:20211107T060000
END:STANDARD
BEGIN:DAYLIGHT
TZOFFSETFROM:-0500
TZOFFSETTO:-0400
TZNAME:EDT
DTSTART:20220313T070000
END:DAYLIGHT
BEGIN:STANDARD
TZOFFSETFROM:-0400
TZOFFSETTO:-0500
TZNAME:EST
DTSTART:20221106T060000
END:STANDARD
BEGIN:DAYLIGHT
TZOFFSETFROM:-0500
TZOFFSETTO:-0400
TZNAME:EDT
DTSTART:20230312T070000
END:DAYLIGHT
BEGIN:STANDARD
TZOFFSETFROM:-0400
TZOFFSETTO:-0500
TZNAME:EST
DTSTART:20231105T060000
END:STANDARD
BEGIN:DAYLIGHT
TZOFFSETFROM:-0500
TZOFFSETTO:-0400
TZNAME:EDT
DTSTART:20240310T070000
END:DAYLIGHT
BEGIN:STANDARD
TZOFFSETFROM:-0400
TZOFFSETTO:-0500
TZNAME:EST
DTSTART:20241103T060000
END:STANDARD
BEGIN:DAYLIGHT
TZOFFSETFROM:-0500
TZOFFSETTO:-0400
TZNAME:EDT
DTSTART:20250309T070000
END:DAYLIGHT
BEGIN:STANDARD
TZOFFSETFROM:-0400
TZOFFSETTO:-0500
TZNAME:EST
DTSTART:20251102T060000
END:STANDARD
END:VTIMEZONE
BEGIN:VEVENT
DTSTART;VALUE=DATE:20240209
DTEND;VALUE=DATE:20240212
DTSTAMP:20260421T120412
CREATED:20240209T193225Z
LAST-MODIFIED:20240209T193909Z
UID:1421-1707436800-1707695999@mckinleyco.com
SUMMARY:FEST for Beatles' Fans
DESCRIPTION:I’ll be on the main stage around noonish with Author Jude Southerland Kessler on Sunday\, 11 February.  After that I’ll be at her booth in the author room\, answering questions about my Beatles’ audiobooks.
URL:https://mckinleyco.com/event/2024-fest/
LOCATION:TWA Hotel\, JFK Airport\, New York\, 1 Idlewild Dr\,\, Queens\, NY\, 11430\, United States
ATTACH;FMTTYPE=image/jpeg:https://mckinleyco.com/wp-content/uploads/sites/102/2024/02/2024-02-09_14-30-50.jpg
END:VEVENT
BEGIN:VEVENT
DTSTART;TZID=America/New_York:20230926T183000
DTEND;TZID=America/New_York:20230926T193000
DTSTAMP:20260421T120412
CREATED:20230901T201129Z
LAST-MODIFIED:20230901T202926Z
UID:1335-1695753000-1695756600@mckinleyco.com
SUMMARY:Fab Four if by Air: The Beatles in America
DESCRIPTION:Fab Four if by Air: The Beatles in America is a hybrid presentation on the Beatles Arrival in America with author Jude Southerland Kessler\, presenting from Louisiana\, and local narrator\,  Scott R. McKinley\, in-person at the Roxbury Public Library. \nAdvance Registration is Required.
URL:https://mckinleyco.com/event/fab-four-if-by-air-2023/
LOCATION:Roxbury Public LIbrary\, 103 Main St\, Succasunna\, NJ\, 07876\, United States
ATTACH;FMTTYPE=image/jpeg:https://mckinleyco.com/wp-content/uploads/sites/102/2023/03/SheLovesYou-AudiobookCover-new-1.jpg
END:VEVENT
BEGIN:VEVENT
DTSTART;TZID=America/New_York:20230912T203000
DTEND;TZID=America/New_York:20230912T213000
DTSTAMP:20260421T120412
CREATED:20230901T203656Z
LAST-MODIFIED:20240105T224453Z
UID:1330-1694550600-1694554200@mckinleyco.com
SUMMARY:An Evening with Norwegian Wood and Bruce Spizer
DESCRIPTION:Join us on the 12th of September at 8:30 p.m\, Eastern time\, to experience Jude Southerland Kessler’s “An Evening with Norwegian Wood and Bruce Spizer” via “John Lennon Focal Points” on Zoom. \nThis FREE webinar will feature a great PowerPoint\, a Q & A with Bruce\, and our trivia game with prizes. \n  \n 
URL:https://mckinleyco.com/event/an-evening-with-bruce-spizer/
LOCATION:NY
ATTACH;FMTTYPE=image/jpeg:https://mckinleyco.com/wp-content/uploads/sites/102/2023/09/373637767_6814864741869501_3392921947551501812_n.jpg
END:VEVENT
BEGIN:VEVENT
DTSTART;VALUE=DATE:20230908
DTEND;VALUE=DATE:20230909
DTSTAMP:20260421T120412
CREATED:20230901T203946Z
LAST-MODIFIED:20230901T205130Z
UID:1338-1694131200-1694217599@mckinleyco.com
SUMMARY:Project Audion Radio Recreations - The Lone Ranger (Premier)
DESCRIPTION:Scott R. McKinley appears in this episode as Tad Brewster. \nIs the Lone Ranger the single most famous series in all of radio’s history? I’d take that bet. It aired an astonishing 3000 episodes over two decades\, and went on to conquer television\, movies\, and more. Even the William Tell Overture that was appropriated as the show’s theme music is still recognizable to people who never heard the original radio dramas or watched the TV show. \nThe Ranger’s formative years on the air from 1933 until 1938 are basically lost to us because no recordings were made. The original scripts survive\, and Project Audion has selected one from October 1934 to recreate. For the first time in nearly 90 years you’ll be able to hear this early version of the Lone Ranger and Tonto\, who are not quite as we remember them. The plot and characters are very much of their time too\, so this show itself is now a trip back to “those thrilling days of yesteryear.” \nThis series is produced by Project Audion: https://projectaudion.com/
URL:https://mckinleyco.com/event/audion-ep-lone-ranger/
LOCATION:NY
ATTACH;FMTTYPE=image/jpeg:https://mckinleyco.com/wp-content/uploads/sites/102/2023/09/a46-LRanger-promo.jpeg
END:VEVENT
BEGIN:VEVENT
DTSTART;VALUE=DATE:20230904
DTEND;VALUE=DATE:20230905
DTSTAMP:20260421T120412
CREATED:20230901T205651Z
LAST-MODIFIED:20230901T210535Z
UID:1370-1693785600-1693871999@mckinleyco.com
SUMMARY:Peculiar Radio Episode 102 - Sisyphus
DESCRIPTION:Peculiar Radio Episode 102 – Sisyphus
URL:https://mckinleyco.com/event/peculiar-radio-102-sisyphus/
LOCATION:NY
ATTACH;FMTTYPE=image/jpeg:https://mckinleyco.com/wp-content/uploads/sites/102/2023/09/372748066_136951839483839_689649734305486842_n.jpg
END:VEVENT
BEGIN:VEVENT
DTSTART;VALUE=DATE:20230901
DTEND;VALUE=DATE:20230902
DTSTAMP:20260421T120412
CREATED:20230901T191345Z
LAST-MODIFIED:20230901T192953Z
UID:1312-1693526400-1693612799@mckinleyco.com
SUMMARY:Madison On The Air: Ep. 35 - Jeff Regan\, Investigator
DESCRIPTION:This is the 35th episode of the audio drama Madison on the Air.   Visit the episode to play the whole drama on the web or using your favorite podcast player. \nScott R. McKinley appears in this episode as Max Vladnik. \nWorking the gig job life\, Madison ends up at the International Detective Bureau run by Anthony J. Lyon and becomes “The Lyon’s Eye.”  Her first assignment is to bodyguard a brilliant Hollywood makeup artist who was nearly gunned down in front of his own home\, high over L.A. on wealthy Mulholland Drive. A gorgeous starlet\, a Russian eccentric\, a ex-con turned stunt man\, a demanding cop and… a deity?  Hold on\, Anthony J. Lyon is actually Sinclair from “Sinclair Wants to Help”?  It’s a crossover episode you don’t want to miss. \nClick below to play the episode trailer\nhttps://mckinleyco.com/wp-content/uploads/sites/102/2023/09/c6ce7800-de11-4006-a51a-74a1a11c102e-35.-Jeff-Regan-Trailer.mp3
URL:https://mckinleyco.com/event/madison-ep-35-jeff-regan/
LOCATION:NY
ATTACH;FMTTYPE=image/jpeg:https://mckinleyco.com/wp-content/uploads/sites/102/2023/09/joe-regan-2023-09-01_15-08-06.jpg
END:VEVENT
BEGIN:VEVENT
DTSTART;VALUE=DATE:20230821
DTEND;VALUE=DATE:20230822
DTSTAMP:20260421T120412
CREATED:20230901T205436Z
LAST-MODIFIED:20230901T210235Z
UID:1366-1692576000-1692662399@mckinleyco.com
SUMMARY:Peculiar Radio Episode 101 - Dead Air
DESCRIPTION:See the episode details here: https://www.lengthytangent.com/peculiar-radio/episodes/101-dead-air?fbclid=IwAR3oFXAin5ofgf6uGD2GqdqLepJCkudC7A5PjzbE_lPP7P8djxfbKA7UtxA
URL:https://mckinleyco.com/event/peculiar-radio-ep-101/
LOCATION:NY
ATTACH;FMTTYPE=image/jpeg:https://mckinleyco.com/wp-content/uploads/sites/102/2023/09/2634226210955667034.jpeg
END:VEVENT
BEGIN:VEVENT
DTSTART;VALUE=DATE:20230811
DTEND;VALUE=DATE:20230814
DTSTAMP:20260421T120412
CREATED:20230804T194220Z
LAST-MODIFIED:20230804T194220Z
UID:1246-1691712000-1691971199@mckinleyco.com
SUMMARY:Fest for Beatles Fans - Chicago
DESCRIPTION:I’ll be attending the Fest for Beatles Fans 2023\, Chicago at the Hyatt Regency O’Hare in support of my Beatles’ audiobooks: Lennon\, The Mobster & the Lawyer by Jay Bergen and the forthcoming audiobook for She Loves You by Jude Southerland Kessler. If you’re following me\, please let me know if you’re going too; I’d love to say Hi.
URL:https://mckinleyco.com/event/https-www-thefest-com-2023-fests-chicago-august-11-12-13-2023/
LOCATION:Hyatt Regency O’Hare\, 9300 Bryn Mawr Ave\, Rosemont\, IL\, 60018\, United States
CATEGORIES:Conventions
ATTACH;FMTTYPE=image/png:https://mckinleyco.com/wp-content/uploads/sites/102/2023/08/Chicago_2023_banner_50-e1691177662485.png
END:VEVENT
BEGIN:VEVENT
DTSTART;VALUE=DATE:20230806
DTEND;VALUE=DATE:20230807
DTSTAMP:20260421T120412
CREATED:20230806T054116Z
LAST-MODIFIED:20230806T054116Z
UID:1258-1691280000-1691366399@mckinleyco.com
SUMMARY:Narada Radio Company Productions: "You Can't Take It With You"
DESCRIPTION:Pete Lutz and NARADA RADIO COMPANY PRODUCTIONS proudly presents a newly scripted radioplay version of George S. Kaufman and Moss Hart’s Pulitzer-Prize-winning 1937 “You Can’t Take it With You”! Podcasting on the Mutual Audio Network (and wherever fine podcasts are served). I play Mr. DePinna! \nhttps://www.facebook.com/groups/127789338643500 \n  \n 
URL:https://mckinleyco.com/event/narada-radio-company-productions-you-cant-take-it-with-you/
LOCATION:PODCAST
ATTACH;FMTTYPE=image/jpeg:https://mckinleyco.com/wp-content/uploads/sites/102/2023/08/365630560_10167758635040481_2149821206158919874_n.jpg
END:VEVENT
BEGIN:VEVENT
DTSTART;VALUE=DATE:20230331
DTEND;VALUE=DATE:20230403
DTSTAMP:20260421T120412
CREATED:20230224T202623Z
LAST-MODIFIED:20230224T203241Z
UID:1117-1680220800-1680479999@mckinleyco.com
SUMMARY:Fest for Beatles Fans - New York Metro
DESCRIPTION:I’ll be attending the Fest for Beatles Fans 2023\, NY Metro at the Jersey City Hyatt in support of my Beatles’ audiobooks: Lennon\, The Mobster & the Lawyer by Jay Bergen and the forthcoming audiobook for She Loves You by Jude Southerland Kessler. If you’re following me\, please let me know if you’re going too; I’d love to say Hi.
URL:https://mckinleyco.com/event/fbfny23/
LOCATION:NY
CATEGORIES:Conventions
ATTACH;FMTTYPE=image/png:https://mckinleyco.com/wp-content/uploads/sites/102/2023/02/FEST23.png
END:VEVENT
BEGIN:VEVENT
DTSTART;TZID=America/New_York:20180811T140000
DTEND;TZID=America/New_York:20180811T145000
DTSTAMP:20260421T120412
CREATED:20180809T211425Z
LAST-MODIFIED:20180809T214846Z
UID:734-1533996000-1533999000@mckinleyco.com
SUMMARY:COZY CATS – A discussion of cozy mysteries (felines optional)
DESCRIPTION:Ilene Schneider\, Moderator – Jeff Cohen\, Peggy Ehrhart\, Clea Simon\, Eileen Watkins \n\nThe Cozy Mystery Panel at Deadly Ink 2018\n\n\nNew Jersey’s “biggest little mystery conference\,” Deadly Ink\,  will be at the Marriott Renaissance in Woodbridge\, New Jersey\, from August 10-12. \nThe entire Deadly-Ink Program is a treat from beginning to end. \n\nSince you pay for whole days\, come and register from 8-9 AM Saturday at the door.\nSave a bit by registering online at Deadly-Ink.com. \nCozyCast is recommending but not hosting\, sponsoring or associated with this event.\nSheryl Coe is an enthusiastic attendee. See you there! \n 
URL:https://mckinleyco.com/event/cozy-cats-deadly-ink-2018/
LOCATION:Marriott Renaissance in Woodbridge\, New Jersey\, 515 US Highway 1 South\, Iselin\, NJ\, 08830\, United States
END:VEVENT
END:VCALENDAR